BEGIN:VCALENDAR
VERSION:2.0
PRODID:icalendar-ruby
CALSCALE:GREGORIAN
METHOD:PUBLISH
BEGIN:VEVENT
DTSTAMP:20260421T152954Z
UID:b5cd52f6-8240-465f-83d5-5665226d64a1
DTSTART;VALUE=DATE:20210831
DTEND;VALUE=DATE:20210831
DESCRIPTION:Ed Fountain Park BMX Raceway
LOCATION:1400 N Decatur Blvd  Las Vegas NV 89108 USA
SUMMARY:Practice
URL:/site/bmx_races/467433
END:VEVENT
END:VCALENDAR
