BEGIN:VCALENDAR
VERSION:2.0
PRODID:icalendar-ruby
CALSCALE:GREGORIAN
METHOD:PUBLISH
BEGIN:VEVENT
DTSTAMP:20260421T121736Z
UID:76368bf3-720a-4482-8b55-f2be32f38852
DTSTART;VALUE=DATE:20211019
DTEND;VALUE=DATE:20211019
DESCRIPTION:Ed Fountain Park BMX Raceway
LOCATION:1400 N Decatur Blvd  Las Vegas NV 89108 USA
SUMMARY:Practice
URL:/site/bmx_races/467445
END:VEVENT
END:VCALENDAR
