BEGIN:VCALENDAR
VERSION:2.0
PRODID:icalendar-ruby
CALSCALE:GREGORIAN
METHOD:PUBLISH
BEGIN:VEVENT
DTSTAMP:20260421T090427Z
UID:9970745b-db8b-4c52-9da0-f30ed632d5c3
DTSTART;VALUE=DATE:20211221
DTEND;VALUE=DATE:20211221
DESCRIPTION:Ed Fountain Park BMX Raceway
LOCATION:1400 N Decatur Blvd  Las Vegas NV 89108 USA
SUMMARY:Practice
URL:/site/bmx_races/467463
END:VEVENT
END:VCALENDAR
