BEGIN:VCALENDAR
VERSION:2.0
PRODID:icalendar-ruby
CALSCALE:GREGORIAN
METHOD:PUBLISH
BEGIN:VEVENT
DTSTAMP:20260421T105805Z
UID:0fc58b27-03b9-4f60-9d14-af59ab91ba2f
DTSTART;VALUE=DATE:20210907
DTEND;VALUE=DATE:20210907
DESCRIPTION:Mayes County BMX
LOCATION:526 Airport Rd At Hwy 69 S  Pryor OK 74363 USA
SUMMARY:Practice
URL:/site/bmx_races/467525
END:VEVENT
END:VCALENDAR
