BEGIN:VCALENDAR
VERSION:2.0
PRODID:icalendar-ruby
CALSCALE:GREGORIAN
METHOD:PUBLISH
BEGIN:VEVENT
DTSTAMP:20260420T094849Z
UID:cdcc4c12-4969-42b7-9d67-051f15d4a4de
DTSTART;VALUE=DATE:20210816
DTEND;VALUE=DATE:20210816
DESCRIPTION:WALLA WALLA BMX
LOCATION:Fort Walla Walla Park   1898 Dalles Military Rd Walla Walla WA 993
 62 USA
SUMMARY:Practice
URL:/site/bmx_races/467995
END:VEVENT
END:VCALENDAR
