BEGIN:VCALENDAR
VERSION:2.0
PRODID:icalendar-ruby
CALSCALE:GREGORIAN
METHOD:PUBLISH
BEGIN:VEVENT
DTSTAMP:20260420T094844Z
UID:894f212a-e86a-43d9-89cd-517a2507be5b
DTSTART;VALUE=DATE:20210823
DTEND;VALUE=DATE:20210823
DESCRIPTION:WALLA WALLA BMX
LOCATION:Fort Walla Walla Park   1898 Dalles Military Rd Walla Walla WA 993
 62 USA
SUMMARY:Practice
URL:/site/bmx_races/467996
END:VEVENT
END:VCALENDAR
