BEGIN:VCALENDAR
VERSION:2.0
PRODID:icalendar-ruby
CALSCALE:GREGORIAN
METHOD:PUBLISH
BEGIN:VEVENT
DTSTAMP:20260422T164948Z
UID:2ddc936b-a8dc-4f28-82bb-286402689f70
DTSTART;VALUE=DATE:20210611
DTEND;VALUE=DATE:20210611
DESCRIPTION:Westmoreland BMX
LOCATION:200 Park Road  Apollo PA 15613 USA
SUMMARY:Practice
URL:/site/bmx_races/468155
END:VEVENT
END:VCALENDAR
