BEGIN:VCALENDAR
VERSION:2.0
PRODID:icalendar-ruby
CALSCALE:GREGORIAN
METHOD:PUBLISH
BEGIN:VEVENT
DTSTAMP:20260422T152156Z
UID:73bfad5f-8f1f-4e60-a186-e2a9d4cb1a08
DTSTART;VALUE=DATE:20210708
DTEND;VALUE=DATE:20210708
DESCRIPTION:Westmoreland BMX
LOCATION:200 Park Road  Apollo PA 15613 USA
SUMMARY:Clinic
URL:/site/bmx_races/468164
END:VEVENT
END:VCALENDAR
