BEGIN:VCALENDAR
VERSION:2.0
PRODID:icalendar-ruby
CALSCALE:GREGORIAN
METHOD:PUBLISH
BEGIN:VEVENT
DTSTAMP:20260420T001234Z
UID:1bc822c0-6cfc-4942-89c7-14b30f31832b
DTSTART;VALUE=DATE:20210608
DTEND;VALUE=DATE:20210608
DESCRIPTION:Rad Canyon BMX
LOCATION:5200 W 9800 S  West Jordan UT 84081 USA
SUMMARY:Practice
URL:/site/bmx_races/468239
END:VEVENT
END:VCALENDAR
