BEGIN:VCALENDAR
VERSION:2.0
PRODID:icalendar-ruby
CALSCALE:GREGORIAN
METHOD:PUBLISH
BEGIN:VEVENT
DTSTAMP:20260419T181323Z
UID:39e07382-8bcf-4157-9819-373da7493a15
DTSTART;VALUE=DATE:20210411
DTEND;VALUE=DATE:20210411
DESCRIPTION:Grand Prix BMX at SoCal Fair
LOCATION:18700 Lake Perris Dr  Perris CA 92571 USA
SUMMARY:Local Race Single
URL:/site/bmx_races/468480
END:VEVENT
END:VCALENDAR
