BEGIN:VCALENDAR
VERSION:2.0
PRODID:icalendar-ruby
CALSCALE:GREGORIAN
METHOD:PUBLISH
BEGIN:VEVENT
DTSTAMP:20260423T175843Z
UID:27676c74-db2e-407f-9e58-027066b0c994
DTSTART;VALUE=DATE:20210514
DTEND;VALUE=DATE:20210514
DESCRIPTION:Mike Sedar BMX
LOCATION:789 College Dr  Casper WY 82601 USA
SUMMARY:Local Race Single
URL:/site/bmx_races/469022
END:VEVENT
END:VCALENDAR
