BEGIN:VCALENDAR
VERSION:2.0
PRODID:icalendar-ruby
CALSCALE:GREGORIAN
METHOD:PUBLISH
BEGIN:VEVENT
DTSTAMP:20260419T214413Z
UID:61fd435b-ca3c-45b8-87f6-26eb40b450b9
DTSTART;VALUE=DATE:20210418
DTEND;VALUE=DATE:20210418
DESCRIPTION:Park City BMX
LOCATION:6801 N Hydraulic  Park City KS 67219 USA
SUMMARY:Local Race Single
URL:/site/bmx_races/469098
END:VEVENT
END:VCALENDAR
