BEGIN:VCALENDAR
VERSION:2.0
PRODID:icalendar-ruby
CALSCALE:GREGORIAN
METHOD:PUBLISH
BEGIN:VEVENT
DTSTAMP:20260424T054237Z
UID:de64f292-190e-4fbc-92f7-6bac7399fa97
DTSTART;VALUE=DATE:20210423
DTEND;VALUE=DATE:20210423
DESCRIPTION:Bradley BMX
LOCATION:234 Urbane Rd  Cleveland TN 37312 USA
SUMMARY:Local Race Single
URL:/site/bmx_races/469109
END:VEVENT
END:VCALENDAR
