BEGIN:VCALENDAR
VERSION:2.0
PRODID:icalendar-ruby
CALSCALE:GREGORIAN
METHOD:PUBLISH
BEGIN:VEVENT
DTSTAMP:20260426T040016Z
UID:ba3cb019-e8da-449e-9b3f-e689d9362a35
DTSTART;VALUE=DATE:20210824
DTEND;VALUE=DATE:20210824
DESCRIPTION:New Paltz BMX
LOCATION:1 Clearwater Rd  New Paltz NY 12561 USA
SUMMARY:Local Race Single
URL:/site/bmx_races/469181
END:VEVENT
END:VCALENDAR
