BEGIN:VCALENDAR
VERSION:2.0
PRODID:icalendar-ruby
CALSCALE:GREGORIAN
METHOD:PUBLISH
BEGIN:VEVENT
DTSTAMP:20260419T190608Z
UID:e37cad81-83c2-47cc-b70c-9e08696b9acf
DTSTART;VALUE=DATE:20210421
DTEND;VALUE=DATE:20210421
DESCRIPTION:Yuma BMX
LOCATION:3067 S Pacific Ave  Yuma AZ 85364 USA
SUMMARY:Local Race Single
URL:/site/bmx_races/469437
END:VEVENT
END:VCALENDAR
