BEGIN:VCALENDAR
VERSION:2.0
PRODID:icalendar-ruby
CALSCALE:GREGORIAN
METHOD:PUBLISH
BEGIN:VEVENT
DTSTAMP:20260420T143833Z
UID:21c0c3b9-1b2e-4589-8ebd-bd69671fdef4
DTSTART;VALUE=DATE:20210526
DTEND;VALUE=DATE:20210526
DESCRIPTION:South Towns BMX
LOCATION:2982 Lakeview Rd  Hamburg NY 14075 USA
SUMMARY:Practice
URL:/site/bmx_races/469520
END:VEVENT
END:VCALENDAR
