BEGIN:VCALENDAR
VERSION:2.0
PRODID:icalendar-ruby
CALSCALE:GREGORIAN
METHOD:PUBLISH
BEGIN:VEVENT
DTSTAMP:20260420T082029Z
UID:df48ebb6-511f-4df4-a987-4a764c59b7b9
DTSTART;VALUE=DATE:20210813
DTEND;VALUE=DATE:20210813
DESCRIPTION:South Towns BMX
LOCATION:2982 Lakeview Rd  Hamburg NY 14075 USA
SUMMARY:Local Race Single
URL:/site/bmx_races/469543
END:VEVENT
END:VCALENDAR
