BEGIN:VCALENDAR
VERSION:2.0
PRODID:icalendar-ruby
CALSCALE:GREGORIAN
METHOD:PUBLISH
BEGIN:VEVENT
DTSTAMP:20260423T121503Z
UID:58afbb33-946f-483b-b3c4-f879d693278b
DTSTART;VALUE=DATE:20210501
DTEND;VALUE=DATE:20210501
DESCRIPTION:First State BMX
LOCATION:1045 N Walnut St  Milford DE 19963 USA
SUMMARY:Local Race Single
URL:/site/bmx_races/469600
END:VEVENT
END:VCALENDAR
