BEGIN:VCALENDAR
VERSION:2.0
PRODID:icalendar-ruby
CALSCALE:GREGORIAN
METHOD:PUBLISH
BEGIN:VEVENT
DTSTAMP:20260424T120253Z
UID:46b012d5-ffbc-4344-b90f-1234129a2440
DTSTART;VALUE=DATE:20220527
DTEND;VALUE=DATE:20220527
DESCRIPTION:Desoto BMX
LOCATION:Grimes Park 500 E. Centre Park Blvd Desoto TX 75115 USA
SUMMARY:Local Race Single
URL:/site/bmx_races/470145
END:VEVENT
END:VCALENDAR
