BEGIN:VCALENDAR
VERSION:2.0
PRODID:icalendar-ruby
CALSCALE:GREGORIAN
METHOD:PUBLISH
BEGIN:VEVENT
DTSTAMP:20260422T035358Z
UID:1dfdb562-b173-4379-a6a1-f47563914d36
DTSTART;VALUE=DATE:20221209
DTEND;VALUE=DATE:20221209
DESCRIPTION:Desoto BMX
LOCATION:Grimes Park 500 E. Centre Park Blvd Desoto TX 75115 USA
SUMMARY:Local Race Single
URL:/site/bmx_races/470201
END:VEVENT
END:VCALENDAR
