BEGIN:VCALENDAR
VERSION:2.0
PRODID:icalendar-ruby
CALSCALE:GREGORIAN
METHOD:PUBLISH
BEGIN:VEVENT
DTSTAMP:20260424T104818Z
UID:edfc79ec-0922-4a08-a1e2-3d4433c7b7c6
DTSTART;VALUE=DATE:20210520
DTEND;VALUE=DATE:20210520
DESCRIPTION:Pemberton BMX
LOCATION:Cottonwood Road  Pemberton BC V0N2L1 CAN
SUMMARY:Practice
URL:/site/bmx_races/471177
END:VEVENT
END:VCALENDAR
