BEGIN:VCALENDAR
VERSION:2.0
PRODID:icalendar-ruby
CALSCALE:GREGORIAN
METHOD:PUBLISH
BEGIN:VEVENT
DTSTAMP:20260426T022317Z
UID:d561e770-956f-4847-b656-1558d9b583ea
DTSTART;VALUE=DATE:20210812
DTEND;VALUE=DATE:20210812
DESCRIPTION:Rum River BMX
LOCATION:Isanti Parkway Northwest  Isanti MN 55040 USA
SUMMARY:Local Race Single
URL:/site/bmx_races/471265
END:VEVENT
END:VCALENDAR
