BEGIN:VCALENDAR
VERSION:2.0
PRODID:icalendar-ruby
CALSCALE:GREGORIAN
METHOD:PUBLISH
BEGIN:VEVENT
DTSTAMP:20260424T035808Z
UID:55893168-d4ba-4e72-af0f-8d7a926381eb
DTSTART;VALUE=DATE:20210927
DTEND;VALUE=DATE:20210927
DESCRIPTION:Yuma BMX
LOCATION:3067 S Pacific Ave  Yuma AZ 85364 USA
SUMMARY:Local Race Single
URL:/site/bmx_races/471329
END:VEVENT
END:VCALENDAR
