BEGIN:VCALENDAR
VERSION:2.0
PRODID:icalendar-ruby
CALSCALE:GREGORIAN
METHOD:PUBLISH
BEGIN:VEVENT
DTSTAMP:20260422T153948Z
UID:2e254992-7e0b-47af-8070-1af988e5b39e
DTSTART;VALUE=DATE:20210929
DTEND;VALUE=DATE:20210929
DESCRIPTION:Yuma BMX
LOCATION:3067 S Pacific Ave  Yuma AZ 85364 USA
SUMMARY:Local Race Single
URL:/site/bmx_races/471330
END:VEVENT
END:VCALENDAR
