BEGIN:VCALENDAR
VERSION:2.0
PRODID:icalendar-ruby
CALSCALE:GREGORIAN
METHOD:PUBLISH
BEGIN:VEVENT
DTSTAMP:20260420T194607Z
UID:d1349b04-158c-4cfe-86a3-3c9f737eaeb6
DTSTART;VALUE=DATE:20210512
DTEND;VALUE=DATE:20210512
DESCRIPTION:Yucca Valley BMX
LOCATION:6989 Sage Ave  Yucca Valley CA 92234 USA
SUMMARY:Local Race Single
URL:/site/bmx_races/471451
END:VEVENT
END:VCALENDAR
