BEGIN:VCALENDAR
VERSION:2.0
PRODID:icalendar-ruby
CALSCALE:GREGORIAN
METHOD:PUBLISH
BEGIN:VEVENT
DTSTAMP:20260422T102622Z
UID:2981df21-55c2-484e-85c4-c1b081766fb4
DTSTART;VALUE=DATE:20210605
DTEND;VALUE=DATE:20210605
DESCRIPTION:Circle City BMX
LOCATION:Westgate Park    100 Recreation Rd Dothan AL 36305 USA
SUMMARY:Local Race Single
URL:/site/bmx_races/471723
END:VEVENT
END:VCALENDAR
