BEGIN:VCALENDAR
VERSION:2.0
PRODID:icalendar-ruby
CALSCALE:GREGORIAN
METHOD:PUBLISH
BEGIN:VEVENT
DTSTAMP:20260423T215616Z
UID:8c561f07-d657-4303-9601-f669756d4ea3
DTSTART;VALUE=DATE:20210515
DTEND;VALUE=DATE:20210515
DESCRIPTION:Columbus BMX
LOCATION:876 Spears St.  Columbus IN 47201 USA
SUMMARY:Warnicke Double
URL:/site/bmx_races/471808
END:VEVENT
END:VCALENDAR
