BEGIN:VCALENDAR
VERSION:2.0
PRODID:icalendar-ruby
CALSCALE:GREGORIAN
METHOD:PUBLISH
BEGIN:VEVENT
DTSTAMP:20260421T170655Z
UID:65cdc8cd-86b1-4b11-9660-d0bae7ab19da
DTSTART;VALUE=DATE:20210615
DTEND;VALUE=DATE:20210615
DESCRIPTION:Caldwell BMX
LOCATION:4700 Skyway St  Caldwell ID 83605 USA
SUMMARY:Practice
URL:/site/bmx_races/471811
END:VEVENT
END:VCALENDAR
