BEGIN:VCALENDAR
VERSION:2.0
PRODID:icalendar-ruby
CALSCALE:GREGORIAN
METHOD:PUBLISH
BEGIN:VEVENT
DTSTAMP:20260423T103716Z
UID:fbdbf09a-e229-4172-a016-a4f519876445
DTSTART;VALUE=DATE:20210908
DTEND;VALUE=DATE:20210908
DESCRIPTION:Revolution Bike Park
LOCATION:400 Mundis Race Rd  York PA 17406 USA
SUMMARY:Local Race Single
URL:/site/bmx_races/472056
END:VEVENT
END:VCALENDAR
