BEGIN:VCALENDAR
VERSION:2.0
PRODID:icalendar-ruby
CALSCALE:GREGORIAN
METHOD:PUBLISH
BEGIN:VEVENT
DTSTAMP:20260424T102910Z
UID:cff6c54a-ad85-48a7-93a7-6859b6d59b3f
DTSTART;VALUE=DATE:20211027
DTEND;VALUE=DATE:20211027
DESCRIPTION:Revolution Bike Park
LOCATION:400 Mundis Race Rd  York PA 17406 USA
SUMMARY:Local Race Single
URL:/site/bmx_races/472070
END:VEVENT
END:VCALENDAR
