BEGIN:VCALENDAR
VERSION:2.0
PRODID:icalendar-ruby
CALSCALE:GREGORIAN
METHOD:PUBLISH
BEGIN:VEVENT
DTSTAMP:20260424T004125Z
UID:77cd501f-ef89-474f-ac86-598beceaf1de
DTSTART;VALUE=DATE:20210609
DTEND;VALUE=DATE:20210609
DESCRIPTION:Springfield BMX Raceway
LOCATION:4115 Sandhill Road  Springfield IL 62702 USA
SUMMARY:Local Race Single
URL:/site/bmx_races/472150
END:VEVENT
END:VCALENDAR
