BEGIN:VCALENDAR
VERSION:2.0
PRODID:icalendar-ruby
CALSCALE:GREGORIAN
METHOD:PUBLISH
BEGIN:VEVENT
DTSTAMP:20260423T145553Z
UID:5525deea-e3f3-41f2-81fa-cbc63b4f1327
DTSTART;VALUE=DATE:20210618
DTEND;VALUE=DATE:20210618
DESCRIPTION:Omaha BMX
LOCATION:11111 W Maple Rd  Omaha NE 68164 USA
SUMMARY:Local Race Single
URL:/site/bmx_races/472223
END:VEVENT
END:VCALENDAR
