BEGIN:VCALENDAR
VERSION:2.0
PRODID:icalendar-ruby
CALSCALE:GREGORIAN
METHOD:PUBLISH
BEGIN:VEVENT
DTSTAMP:20260423T121452Z
UID:0e0d719b-e036-466d-ac98-364763d80e69
DTSTART;VALUE=DATE:20210526
DTEND;VALUE=DATE:20210526
DESCRIPTION:First State BMX
LOCATION:1045 N Walnut St  Milford DE 19963 USA
SUMMARY:Non-Riding Event
URL:/site/bmx_races/472265
END:VEVENT
END:VCALENDAR
