BEGIN:VCALENDAR
VERSION:2.0
PRODID:icalendar-ruby
CALSCALE:GREGORIAN
METHOD:PUBLISH
BEGIN:VEVENT
DTSTAMP:20260421T024116Z
UID:7554b6fd-7da5-4839-a65a-7898833a4650
DTSTART;VALUE=DATE:20210630
DTEND;VALUE=DATE:20210630
DESCRIPTION:80/35 BMX
LOCATION:1701 E Mc Kinley Ave  Des Moines IA 50320 USA
SUMMARY:Clinic
URL:/site/bmx_races/472336
END:VEVENT
END:VCALENDAR
