BEGIN:VCALENDAR
VERSION:2.0
PRODID:icalendar-ruby
CALSCALE:GREGORIAN
METHOD:PUBLISH
BEGIN:VEVENT
DTSTAMP:20260424T090901Z
UID:bec5511d-2eaf-4f0e-a837-9630c8951e6f
DTSTART;VALUE=DATE:20210622
DTEND;VALUE=DATE:20210622
DESCRIPTION:Lincoln Park BMX
LOCATION:South L St & W. Lauridsen Blvd  Port Angeles WA 98362 USA
SUMMARY:Local Race Single
URL:/site/bmx_races/472422
END:VEVENT
END:VCALENDAR
