BEGIN:VCALENDAR
VERSION:2.0
PRODID:icalendar-ruby
CALSCALE:GREGORIAN
METHOD:PUBLISH
BEGIN:VEVENT
DTSTAMP:20260423T130004Z
UID:831cab2c-2c41-443f-8482-d37bd3f20020
DTSTART;VALUE=DATE:20210619
DTEND;VALUE=DATE:20210619
DESCRIPTION:North Shore BMX
LOCATION:1301 Lillooet Road  North Vancouver BC V7J 3T7 CAN
SUMMARY:Practice
URL:/site/bmx_races/472485
END:VEVENT
END:VCALENDAR
