BEGIN:VCALENDAR
VERSION:2.0
PRODID:icalendar-ruby
CALSCALE:GREGORIAN
METHOD:PUBLISH
BEGIN:VEVENT
DTSTAMP:20260421T105805Z
UID:6b6a26d6-bc3a-43ec-99a6-56c38d9c85e7
DTSTART;VALUE=DATE:20210610
DTEND;VALUE=DATE:20210610
DESCRIPTION:Penticton BMX
LOCATION:630 Munson Mountain Road  Penticton BC V2A 8S5 CAN
SUMMARY:Practice
URL:/site/bmx_races/472930
END:VEVENT
END:VCALENDAR
