BEGIN:VCALENDAR
VERSION:2.0
PRODID:icalendar-ruby
CALSCALE:GREGORIAN
METHOD:PUBLISH
BEGIN:VEVENT
DTSTAMP:20260423T103633Z
UID:a1de3ee0-9403-4f0a-b03d-f147b29f85c9
DTSTART;VALUE=DATE:20210612
DTEND;VALUE=DATE:20210612
DESCRIPTION:Marysville BMX
LOCATION:618 N Main St  Marysville OH 43040 USA
SUMMARY:Clinic
URL:/site/bmx_races/473067
END:VEVENT
END:VCALENDAR
