BEGIN:VCALENDAR
VERSION:2.0
PRODID:icalendar-ruby
CALSCALE:GREGORIAN
METHOD:PUBLISH
BEGIN:VEVENT
DTSTAMP:20260423T055355Z
UID:b4c16976-2525-4863-8803-074445ef793b
DTSTART;VALUE=DATE:20210902
DTEND;VALUE=DATE:20210902
DESCRIPTION:North Shore BMX
LOCATION:1301 Lillooet Road  North Vancouver BC V7J 3T7 CAN
SUMMARY:Local Race Single
URL:/site/bmx_races/473176
END:VEVENT
END:VCALENDAR
