BEGIN:VCALENDAR
VERSION:2.0
PRODID:icalendar-ruby
CALSCALE:GREGORIAN
METHOD:PUBLISH
BEGIN:VEVENT
DTSTAMP:20260420T194440Z
UID:fd48def1-b702-42c9-bc16-cf9469092da3
DTSTART;VALUE=DATE:20210728
DTEND;VALUE=DATE:20210728
DESCRIPTION:Yukon BMX
LOCATION:Taylor Park Sports Complex   410 N 11th St Yukon OK 73064 USA
SUMMARY:Practice
URL:/site/bmx_races/473215
END:VEVENT
END:VCALENDAR
