BEGIN:VCALENDAR
VERSION:2.0
PRODID:icalendar-ruby
CALSCALE:GREGORIAN
METHOD:PUBLISH
BEGIN:VEVENT
DTSTAMP:20260423T160747Z
UID:47a6b5f7-e09e-473f-a0dc-647655859f99
DTSTART;VALUE=DATE:20130818
DTEND;VALUE=DATE:20130818
DESCRIPTION:Spreckels Park BMX
LOCATION:941 Spreckels Ave  Manteca CA 95336 USA
SUMMARY:Local Race Single
URL:/site/bmx_races/47336
END:VEVENT
END:VCALENDAR
