BEGIN:VCALENDAR
VERSION:2.0
PRODID:icalendar-ruby
CALSCALE:GREGORIAN
METHOD:PUBLISH
BEGIN:VEVENT
DTSTAMP:20260419T232244Z
UID:7f37491b-6ff3-41ed-bb52-41e3d531711a
DTSTART;VALUE=DATE:20210707
DTEND;VALUE=DATE:20210707
DESCRIPTION:Rad Canyon BMX
LOCATION:5200 W 9800 S  West Jordan UT 84081 USA
SUMMARY:Non-Riding Event
URL:/site/bmx_races/473854
END:VEVENT
END:VCALENDAR
