BEGIN:VCALENDAR
VERSION:2.0
PRODID:icalendar-ruby
CALSCALE:GREGORIAN
METHOD:PUBLISH
BEGIN:VEVENT
DTSTAMP:20260423T170936Z
UID:0911698a-0652-4212-9549-2fba661d0f99
DTSTART;VALUE=DATE:20210816
DTEND;VALUE=DATE:20210816
DESCRIPTION:Eagle County BMX
LOCATION:1700 Bull Pasture Rd  Eagle CO 81631 USA
SUMMARY:Warnicke Single
URL:/site/bmx_races/474053
END:VEVENT
END:VCALENDAR
