BEGIN:VCALENDAR
VERSION:2.0
PRODID:icalendar-ruby
CALSCALE:GREGORIAN
METHOD:PUBLISH
BEGIN:VEVENT
DTSTAMP:20260423T191902Z
UID:66727b8f-3980-4cb1-a735-1e920fa98072
DTSTART;VALUE=DATE:20210720
DTEND;VALUE=DATE:20210720
DESCRIPTION:Chehalem Valley BMX
LOCATION:1201 Blaine St  Newberg OR 97132 USA
SUMMARY:Local Race Single
URL:/site/bmx_races/474133
END:VEVENT
END:VCALENDAR
