BEGIN:VCALENDAR
VERSION:2.0
PRODID:icalendar-ruby
CALSCALE:GREGORIAN
METHOD:PUBLISH
BEGIN:VEVENT
DTSTAMP:20260421T091756Z
UID:b3fe5d8d-0cb3-483f-9bae-5979f322b894
DTSTART;VALUE=DATE:20210722
DTEND;VALUE=DATE:20210722
DESCRIPTION:Penticton BMX
LOCATION:630 Munson Mountain Road  Penticton BC V2A 8S5 CAN
SUMMARY:Local Race Single
URL:/site/bmx_races/474812
END:VEVENT
END:VCALENDAR
