BEGIN:VCALENDAR
VERSION:2.0
PRODID:icalendar-ruby
CALSCALE:GREGORIAN
METHOD:PUBLISH
BEGIN:VEVENT
DTSTAMP:20260422T153917Z
UID:783dad84-9b0c-4d68-bd5f-60fa13549a12
DTSTART;VALUE=DATE:20210702
DTEND;VALUE=DATE:20210702
DESCRIPTION:Capitol City BMX
LOCATION:5001 Killingsworth Lane  Pflugerville TX 78660 USA
SUMMARY:Local Race Single
URL:/site/bmx_races/474876
END:VEVENT
END:VCALENDAR
