BEGIN:VCALENDAR
VERSION:2.0
PRODID:icalendar-ruby
CALSCALE:GREGORIAN
METHOD:PUBLISH
BEGIN:VEVENT
DTSTAMP:20260423T143803Z
UID:45985834-9c20-4c28-8fb0-57540f6e7dbd
DTSTART;VALUE=DATE:20210714
DTEND;VALUE=DATE:20210714
DESCRIPTION:Rogue Valley BMX
LOCATION:Highland Drive  Medford OR 97504 USA
SUMMARY:Local Race Single
URL:/site/bmx_races/475042
END:VEVENT
END:VCALENDAR
