BEGIN:VCALENDAR
VERSION:2.0
PRODID:icalendar-ruby
CALSCALE:GREGORIAN
METHOD:PUBLISH
BEGIN:VEVENT
DTSTAMP:20260421T072942Z
UID:3ef92b72-4b48-4215-a6a4-0a207778eb54
DTSTART;VALUE=DATE:20210728
DTEND;VALUE=DATE:20210728
DESCRIPTION:Imagination Glen BMX
LOCATION:2190 N State Rd 149  Portage IN 46304 USA
SUMMARY:Local Race Single
URL:/site/bmx_races/475113
END:VEVENT
END:VCALENDAR
