BEGIN:VCALENDAR
VERSION:2.0
PRODID:icalendar-ruby
CALSCALE:GREGORIAN
METHOD:PUBLISH
BEGIN:VEVENT
DTSTAMP:20260421T073104Z
UID:8dd1cbac-58a4-471a-b414-5203d70cc286
DTSTART;VALUE=DATE:20210730
DTEND;VALUE=DATE:20210730
DESCRIPTION:Imagination Glen BMX
LOCATION:2190 N State Rd 149  Portage IN 46304 USA
SUMMARY:Local Race Single
URL:/site/bmx_races/475114
END:VEVENT
END:VCALENDAR
