BEGIN:VCALENDAR
VERSION:2.0
PRODID:icalendar-ruby
CALSCALE:GREGORIAN
METHOD:PUBLISH
BEGIN:VEVENT
DTSTAMP:20260419T170747Z
UID:727ddb03-2d47-4f37-af96-685d4f340433
DTSTART;VALUE=DATE:20210814
DTEND;VALUE=DATE:20210814
DESCRIPTION:Langley BMX
LOCATION:4375 206 St Langley  Langley BC V3A 3B1 CAN
SUMMARY:Earned Double
URL:/site/bmx_races/475222
END:VEVENT
END:VCALENDAR
